BEGIN:VCALENDAR
VERSION:2.0
PRODID:-//elm-conf//speaker calendar//EN
CALSCALE:GREGORIAN
METHOD:PUBLISH
BEGIN:VEVENT
UID:/home/runner/work/gnistor/gnistor/content/event/2026-04-21-studiecirkel-vad-hande-med-arbetarklassen.md
ORGANIZER;CN=Vänsterpartiet Malmö:mailto:hej@gnistor.se
SUMMARY:Studiecirkel: Vad hände med arbetarklassen?
SEQUENCE:0
STATUS:CONFIRMED
DTSTAMP:20260421T180000Z
DTSTART;TZID=Europe/Stockholm:20260421T180000
END:VEVENT
END:VCALENDAR