BEGIN:VCALENDAR
VERSION:2.0
PRODID:-//elm-conf//speaker calendar//EN
CALSCALE:GREGORIAN
METHOD:PUBLISH
BEGIN:VEVENT
UID:/home/runner/work/gnistor/gnistor/content/event/2026-04-27-indien-kina-och-den-multipolara-varldsordningen.md
ORGANIZER;CN=Svenska Clartéförbundet:mailto:hej@gnistor.se
SUMMARY:Indien, Kina och den multipolära världsordningen
SEQUENCE:0
STATUS:CONFIRMED
DTSTAMP:20260427T183000Z
DTSTART;TZID=Europe/Stockholm:20260427T183000
END:VEVENT
END:VCALENDAR