BEGIN:VCALENDAR
VERSION:2.0
PRODID:-//elm-conf//speaker calendar//EN
CALSCALE:GREGORIAN
METHOD:PUBLISH
BEGIN:VEVENT
UID:/home/runner/work/gnistor/gnistor/content/event/2026-04-27-slagordsworkshop-med-ta-tillbaka-framtiden-malmo.md
ORGANIZER;CN=Ta tillbaka framtiden:mailto:hej@gnistor.se
SUMMARY:Slagordsworkshop med Ta tillbaka framtiden (Malmö)
SEQUENCE:0
STATUS:CONFIRMED
DTSTAMP:20260427T170000Z
DTSTART;TZID=Europe/Stockholm:20260427T170000
END:VEVENT
END:VCALENDAR