BEGIN:VCALENDAR
VERSION:2.0
PRODID:-//elm-conf//speaker calendar//EN
CALSCALE:GREGORIAN
METHOD:PUBLISH
BEGIN:VEVENT
UID:/home/runner/work/gnistor/gnistor/content/event/2026-04-28-en-kvall-for-ukraina.md
ORGANIZER;CN=ABF Stockholm:mailto:hej@gnistor.se
SUMMARY:En kväll för Ukraina
SEQUENCE:0
STATUS:CONFIRMED
DTSTAMP:20260428T180000Z
DTSTART;TZID=Europe/Stockholm:20260428T180000
END:VEVENT
END:VCALENDAR