BEGIN:VCALENDAR
VERSION:2.0
PRODID:-//elm-conf//speaker calendar//EN
CALSCALE:GREGORIAN
METHOD:PUBLISH
BEGIN:VEVENT
UID:/home/runner/work/gnistor/gnistor/content/event/2026-04-29-till-demokratins-forsvar.md
ORGANIZER;CN=MP Enskede-Årsta-Vantör m.fl.:mailto:hej@gnistor.se
SUMMARY:Till demokratins försvar - Anti-fascistiskt möte
SEQUENCE:0
STATUS:CONFIRMED
DTSTAMP:20260429T180000Z
DTSTART;TZID=Europe/Stockholm:20260429T180000
END:VEVENT
END:VCALENDAR