BEGIN:VCALENDAR
VERSION:2.0
PRODID:-//elm-conf//speaker calendar//EN
CALSCALE:GREGORIAN
METHOD:PUBLISH
BEGIN:VEVENT
UID:/home/runner/work/gnistor/gnistor/content/event/2026-04-29-vi-koper-det-inte-ett-samtal-om-etisk-upphandling.md
ORGANIZER;CN=Allt åt alla Malmö:mailto:hej@gnistor.se
SUMMARY:Vi köper det inte - ett samtal om etisk upphandling
SEQUENCE:0
STATUS:CONFIRMED
DTSTAMP:20260429T183000Z
DTSTART;TZID=Europe/Stockholm:20260429T183000
END:VEVENT
END:VCALENDAR