BEGIN:VCALENDAR
VERSION:2.0
PRODID:-//elm-conf//speaker calendar//EN
CALSCALE:GREGORIAN
METHOD:PUBLISH
BEGIN:VEVENT
UID:/home/runner/work/gnistor/gnistor/content/event/2026-05-01-den-stora-vansterfesten.md
ORGANIZER;CN=Vänsterpartiet Stockholms stad:mailto:hej@gnistor.se
SUMMARY:Den stora vänsterfesten
SEQUENCE:0
STATUS:CONFIRMED
DTSTAMP:20260501T180000Z
DTSTART;TZID=Europe/Stockholm:20260501T180000
END:VEVENT
END:VCALENDAR