BEGIN:VCALENDAR
VERSION:2.0
PRODID:-//elm-conf//speaker calendar//EN
CALSCALE:GREGORIAN
METHOD:PUBLISH
BEGIN:VEVENT
UID:/home/runner/work/gnistor/gnistor/content/event/2026-05-01-forsta-maj-med-allt-at-alla.md
ORGANIZER;CN=Allt åt alla Malmö:mailto:hej@gnistor.se
SUMMARY:Första maj med Allt åt alla
SEQUENCE:0
STATUS:CONFIRMED
DTSTAMP:20260501T120000Z
DTSTART;TZID=Europe/Stockholm:20260501T120000
END:VEVENT
END:VCALENDAR