BEGIN:VCALENDAR
VERSION:2.0
PRODID:-//elm-conf//speaker calendar//EN
CALSCALE:GREGORIAN
METHOD:PUBLISH
BEGIN:VEVENT
UID:/home/runner/work/gnistor/gnistor/content/event/2026-05-01-syndikalistisk-forsta-maj.md
ORGANIZER;CN=Syndikalisterna Göteborgs LS:mailto:hej@gnistor.se
SUMMARY:Syndikalistisk första maj
SEQUENCE:0
STATUS:CONFIRMED
DTSTAMP:20260501T123000Z
DTSTART;TZID=Europe/Stockholm:20260501T123000
END:VEVENT
END:VCALENDAR