BEGIN:VCALENDAR
VERSION:2.0
PRODID:-//elm-conf//speaker calendar//EN
CALSCALE:GREGORIAN
METHOD:PUBLISH
BEGIN:VEVENT
UID:/home/runner/work/gnistor/gnistor/content/event/2026-05-07-motstandets-estetik-och-fragan-om-skolan.md
ORGANIZER;CN=Bonniers Konsthall:mailto:hej@gnistor.se
SUMMARY:Prolog till De besegrade: Motståndets estetik och frågan om skolan
SEQUENCE:0
STATUS:CONFIRMED
DTSTAMP:20260507T170000Z
DTSTART;TZID=Europe/Stockholm:20260507T170000
END:VEVENT
END:VCALENDAR