BEGIN:VCALENDAR
VERSION:2.0
PRODID:-//elm-conf//speaker calendar//EN
CALSCALE:GREGORIAN
METHOD:PUBLISH
BEGIN:VEVENT
UID:/home/runner/work/gnistor/gnistor/content/event/2026-05-28-aw-med-bis-malmo.md
ORGANIZER;CN=BiS - Bibliotek i Samhälle:mailto:hej@gnistor.se
SUMMARY:AW med BiS (Malmö)
SEQUENCE:0
STATUS:CONFIRMED
DTSTAMP:20260528T180000Z
DTSTART;TZID=Europe/Stockholm:20260528T180000
END:VEVENT
END:VCALENDAR