BEGIN:VCALENDAR
VERSION:2.0
PRODID:-//elm-conf//speaker calendar//EN
CALSCALE:GREGORIAN
METHOD:PUBLISH
BEGIN:VEVENT
UID:/home/runner/work/gnistor/gnistor/content/event/2026-06-06-los-fastidios-kafe-44.md
ORGANIZER;CN=Kafé 44:mailto:hej@gnistor.se
SUMMARY:Los Fastidios@Kafé 44
SEQUENCE:0
STATUS:CONFIRMED
DTSTAMP:20260606T190000Z
DTSTART;TZID=Europe/Stockholm:20260606T190000
END:VEVENT
END:VCALENDAR