BEGIN:VCALENDAR
VERSION:2.0
PRODID:-//elm-conf//speaker calendar//EN
CALSCALE:GREGORIAN
METHOD:PUBLISH

BEGIN:VEVENT
UID:/home/runner/work/gnistor/gnistor/content/event/2026-05-01-1-maj-fest-gotland.md
ORGANIZER;CN=SAC Syndikalisterna Gotland & Ung vänster:mailto:hej@gnistor.se
SUMMARY:1 MAJ-FEST!
SEQUENCE:0
STATUS:CONFIRMED
DTSTAMP:20260501T160000Z
DTSTART;TZID=Europe/Stockholm:20260501T160000

LOCATION:Gotlands
URL:https://www.gnistor.se/event/2026-05-01-1-maj-fest-gotland/calendar.ics
END:VEVENT

END:VCALENDAR